BEGIN:VCALENDAR
VERSION:2.0
PRODID:concerti//https://www.concerti.de
CALSCALE:GREGORIAN
BEGIN:VTIMEZONE
TZID:Europe/Berlin
X-LIC-LOCATION:Europe/Berlin
BEGIN:DAYLIGHT
TZOFFSETFROM:+0100
TZOFFSETTO:+0200
TZNAME:CEST
DTSTART:19700329T020000
RRULE:FREQ=YEARLY;BYMONTH=3;BYDAY=-1SU
END:DAYLIGHT
BEGIN:STANDARD
TZOFFSETFROM:+0200
TZOFFSETTO:+0100
TZNAME:CET
DTSTART:19701025T030000
RRULE:FREQ=YEARLY;BYMONTH=10;BYDAY=-1SU
END:STANDARD
END:VTIMEZONE
BEGIN:VEVENT
UID:5eb99193906d7adc3f43213227640711
SUMMARY:Ilona Cudek (Violine), Elke Funk-Hoever (Violoncello), Aglaya Zinchenko (Klavier)
URL:https://www.concerti.de/termine/ilona-cudek-violine-elke-funk-hoever-violoncello-aglaya-zinchenko-klavier-isarphilharmonie-889849/
DTSTART;TZID=Europe/Berlin:20261213T110000
DTEND;TZID=Europe/Berlin:20261213T130000
DESCRIPTION:Interpreten: Ilona Cudek (Violine)\, Elke Funk-Hoever (Violoncello)\, Aglaya Zinchenko (Klavier) \nProgramm: Beethoven: Klaviertrio B-Dur (Auszug)\, Ries: Klaviertrio Nr. 4 c-Moll op. 143\, Kurtág: Varga Bálint Ligaturája\, Goetz: Klaviertrio g-Moll op. 1 \nhttps://www.concerti.de/termine/ilona-cudek-violine-elke-funk-hoever-violoncello-aglaya-zinchenko-klavier-isarphilharmonie-889849/
LOCATION:Isarphilharmonie\, Hans-Preißinger-Straße 8\, 81379 München
END:VEVENT
END:VCALENDAR