BEGIN:VCALENDAR
VERSION:2.0
PRODID:concerti//https://www.concerti.de
CALSCALE:GREGORIAN
BEGIN:VTIMEZONE
TZID:Europe/Berlin
X-LIC-LOCATION:Europe/Berlin
BEGIN:DAYLIGHT
TZOFFSETFROM:+0100
TZOFFSETTO:+0200
TZNAME:CEST
DTSTART:19700329T020000
RRULE:FREQ=YEARLY;BYMONTH=3;BYDAY=-1SU
END:DAYLIGHT
BEGIN:STANDARD
TZOFFSETFROM:+0200
TZOFFSETTO:+0100
TZNAME:CET
DTSTART:19701025T030000
RRULE:FREQ=YEARLY;BYMONTH=10;BYDAY=-1SU
END:STANDARD
END:VTIMEZONE
BEGIN:VEVENT
UID:9a1fce9d0c160de37f26938db7a886ab
SUMMARY:Beethoven: Sinfonie Nr. 9 d-Moll op. 125
URL:https://www.concerti.de/termine/beethoven-sinfonie-nr-9-d-moll-op-125-isarphilharmonie-889857/
DTSTART;TZID=Europe/Berlin:20261229T193000
DTEND;TZID=Europe/Berlin:20261229T213000
DESCRIPTION:Interpreten: Axelle Fanyo (Sopran)\, Anna Lucia Richter (Alt)\, Léo Vermot-Desroches (Tenor)\, Stéphane Degout (Bassbariton)\, Philharmonischer Chor München\, Münchner Philharmoniker\, Maxime Pascal (Leitung) \nhttps://www.concerti.de/termine/beethoven-sinfonie-nr-9-d-moll-op-125-isarphilharmonie-889857/
LOCATION:Isarphilharmonie\, Hans-Preißinger-Straße 8\, 81379 München
END:VEVENT
END:VCALENDAR