BEGIN:VCALENDAR
VERSION:2.0
PRODID:concerti//https://www.concerti.de
CALSCALE:GREGORIAN
BEGIN:VTIMEZONE
TZID:Europe/Berlin
X-LIC-LOCATION:Europe/Berlin
BEGIN:DAYLIGHT
TZOFFSETFROM:+0100
TZOFFSETTO:+0200
TZNAME:CEST
DTSTART:19700329T020000
RRULE:FREQ=YEARLY;BYMONTH=3;BYDAY=-1SU
END:DAYLIGHT
BEGIN:STANDARD
TZOFFSETFROM:+0200
TZOFFSETTO:+0100
TZNAME:CET
DTSTART:19701025T030000
RRULE:FREQ=YEARLY;BYMONTH=10;BYDAY=-1SU
END:STANDARD
END:VTIMEZONE
BEGIN:VEVENT
UID:ba178ca239273780bbed46a11c0d5fa1
SUMMARY:Münchner Philharmoniker, Tugan Sokhiev (Leitung)
URL:https://www.concerti.de/termine/muenchner-philharmoniker-tugan-sokhiev-leitung-isarphilharmonie-889864/
DTSTART;TZID=Europe/Berlin:20270117T110000
DTEND;TZID=Europe/Berlin:20270117T130000
DESCRIPTION:Interpreten: Münchner Philharmoniker\, Tugan Sokhiev (Leitung) \nProgramm: Britten: Simple Symphony op. 4\, Roussel: Suite Nr. 2 „Bacchus et Ariane“ op. 43\, Prokofjew: Sinfonie Nr. 5 B-Dur op. 100 \nhttps://www.concerti.de/termine/muenchner-philharmoniker-tugan-sokhiev-leitung-isarphilharmonie-889864/
LOCATION:Isarphilharmonie\, Hans-Preißinger-Straße 8\, 81379 München
END:VEVENT
END:VCALENDAR