BEGIN:VCALENDAR
VERSION:2.0
PRODID:concerti//https://www.concerti.de
CALSCALE:GREGORIAN
BEGIN:VTIMEZONE
TZID:Europe/Berlin
X-LIC-LOCATION:Europe/Berlin
BEGIN:DAYLIGHT
TZOFFSETFROM:+0100
TZOFFSETTO:+0200
TZNAME:CEST
DTSTART:19700329T020000
RRULE:FREQ=YEARLY;BYMONTH=3;BYDAY=-1SU
END:DAYLIGHT
BEGIN:STANDARD
TZOFFSETFROM:+0200
TZOFFSETTO:+0100
TZNAME:CET
DTSTART:19701025T030000
RRULE:FREQ=YEARLY;BYMONTH=10;BYDAY=-1SU
END:STANDARD
END:VTIMEZONE
BEGIN:VEVENT
UID:37c3e33ce0d4bd128b5d2492b5a9f6e2
SUMMARY:Andrey Godik (Oboe), László Kuti (Klarinette), Yusi Chen (Violine), Gueli Kim (Viola), Shengni Guo (Kontrabass)
URL:https://www.concerti.de/termine/andrey-godik-oboe-laszlo-kuti-klarinette-yusi-chen-violine-gueli-kim-viola-shengni-guo-kontrabass-muenchner-kuenstlerhaus-889915/
DTSTART;TZID=Europe/Berlin:20270425T110000
DTEND;TZID=Europe/Berlin:20270425T130000
DESCRIPTION:Interpreten: Andrey Godik (Oboe)\, László Kuti (Klarinette)\, Yusi Chen (Violine)\, Gueli Kim (Viola)\, Shengni Guo (Kontrabass) \nProgramm: Vanhal: Divertimento G-Dur\, Prokofjew: Quintett g-Moll op. 39\, Anderson: Quintett \nhttps://www.concerti.de/termine/andrey-godik-oboe-laszlo-kuti-klarinette-yusi-chen-violine-gueli-kim-viola-shengni-guo-kontrabass-muenchner-kuenstlerhaus-889915/
LOCATION:Münchner Künstlerhaus\, Lenbachplatz 8\, 80333 München
END:VEVENT
END:VCALENDAR