BEGIN:VCALENDAR
VERSION:2.0
PRODID:concerti//https://www.concerti.de
CALSCALE:GREGORIAN
BEGIN:VTIMEZONE
TZID:Europe/Berlin
X-LIC-LOCATION:Europe/Berlin
BEGIN:DAYLIGHT
TZOFFSETFROM:+0100
TZOFFSETTO:+0200
TZNAME:CEST
DTSTART:19700329T020000
RRULE:FREQ=YEARLY;BYMONTH=3;BYDAY=-1SU
END:DAYLIGHT
BEGIN:STANDARD
TZOFFSETFROM:+0200
TZOFFSETTO:+0100
TZNAME:CET
DTSTART:19701025T030000
RRULE:FREQ=YEARLY;BYMONTH=10;BYDAY=-1SU
END:STANDARD
END:VTIMEZONE
BEGIN:VEVENT
UID:2ff09ce6dd746a792b33cd9fc2c24601
SUMMARY:Naoka Aoki (Violine), Johanna Zaunschirm (Violine), Jannis Rieke (Viola), Shizuka Mitsui (Violoncello)
URL:https://www.concerti.de/termine/naoka-aoki-violine-johanna-zaunschirm-violine-jannis-rieke-viola-shizuka-mitsui-violoncello-isarphilharmonie-889938/
DTSTART;TZID=Europe/Berlin:20270606T110000
DTEND;TZID=Europe/Berlin:20270606T130000
DESCRIPTION:Interpreten: Naoka Aoki (Violine)\, Johanna Zaunschirm (Violine)\, Jannis Rieke (Viola)\, Shizuka Mitsui (Violoncello) \nProgramm: Beethoven: Streichquartette D-Dur op. 18/3 & Nr. 15 a-Moll op. 132\, Webern: Streichquartett c-Moll (Auszug) \nhttps://www.concerti.de/termine/naoka-aoki-violine-johanna-zaunschirm-violine-jannis-rieke-viola-shizuka-mitsui-violoncello-isarphilharmonie-889938/
LOCATION:Isarphilharmonie\, Hans-Preißinger-Straße 8\, 81379 München
END:VEVENT
END:VCALENDAR