BEGIN:VCALENDAR
VERSION:2.0
PRODID:concerti//https://www.concerti.de
CALSCALE:GREGORIAN
BEGIN:VTIMEZONE
TZID:Europe/Berlin
X-LIC-LOCATION:Europe/Berlin
BEGIN:DAYLIGHT
TZOFFSETFROM:+0100
TZOFFSETTO:+0200
TZNAME:CEST
DTSTART:19700329T020000
RRULE:FREQ=YEARLY;BYMONTH=3;BYDAY=-1SU
END:DAYLIGHT
BEGIN:STANDARD
TZOFFSETFROM:+0200
TZOFFSETTO:+0100
TZNAME:CET
DTSTART:19701025T030000
RRULE:FREQ=YEARLY;BYMONTH=10;BYDAY=-1SU
END:STANDARD
END:VTIMEZONE
BEGIN:VEVENT
UID:861ff276e620197ec14efaffa160352b
SUMMARY:Klassik am Odeonsplatz
URL:https://www.concerti.de/termine/klassik-am-odeonsplatz-889954/
DTSTART;TZID=Europe/Berlin:20270710T200000
DTEND;TZID=Europe/Berlin:20270710T220000
DESCRIPTION:Interpreten: Lang Lang (Klavier)\, Münchner Philharmoniker\, Lahav Shani (Leitung) \nhttps://www.concerti.de/termine/klassik-am-odeonsplatz-889954/
LOCATION:Odeonsplatz\, München
END:VEVENT
END:VCALENDAR