BEGIN:VCALENDAR
VERSION:2.0
PRODID:concerti//https://www.concerti.de
CALSCALE:GREGORIAN
BEGIN:VTIMEZONE
TZID:Europe/Berlin
X-LIC-LOCATION:Europe/Berlin
BEGIN:DAYLIGHT
TZOFFSETFROM:+0100
TZOFFSETTO:+0200
TZNAME:CEST
DTSTART:19700329T020000
RRULE:FREQ=YEARLY;BYMONTH=3;BYDAY=-1SU
END:DAYLIGHT
BEGIN:STANDARD
TZOFFSETFROM:+0200
TZOFFSETTO:+0100
TZNAME:CET
DTSTART:19701025T030000
RRULE:FREQ=YEARLY;BYMONTH=10;BYDAY=-1SU
END:STANDARD
END:VTIMEZONE
BEGIN:VEVENT
UID:ac304be104c0557645541cd89c1be3c5
SUMMARY:Jubiläumskonzert
URL:https://www.concerti.de/termine/jubilaeumskonzert-stadtcasino-basel-889998/
DTSTART;TZID=Europe/Berlin:20260607T170000
DTEND;TZID=Europe/Berlin:20260607T190000
DESCRIPTION:Interpreten: Chor & Orchester der Universität Basel\, Olga Pavlu (Leitung) \nProgramm: Mendelssohn: Psalm 42 „Wie der Hirsch schreit“\, Elgar: The Music Makers\, Berlioz: Te Deum op. 22 \nhttps://www.concerti.de/termine/jubilaeumskonzert-stadtcasino-basel-889998/
LOCATION:Stadtcasino Basel\, Konzertgasse 1\, 4051 Basel
END:VEVENT
END:VCALENDAR