BEGIN:VCALENDAR
VERSION:2.0
PRODID:concerti//https://www.concerti.de
CALSCALE:GREGORIAN
BEGIN:VTIMEZONE
TZID:Europe/Berlin
X-LIC-LOCATION:Europe/Berlin
BEGIN:DAYLIGHT
TZOFFSETFROM:+0100
TZOFFSETTO:+0200
TZNAME:CEST
DTSTART:19700329T020000
RRULE:FREQ=YEARLY;BYMONTH=3;BYDAY=-1SU
END:DAYLIGHT
BEGIN:STANDARD
TZOFFSETFROM:+0200
TZOFFSETTO:+0100
TZNAME:CET
DTSTART:19701025T030000
RRULE:FREQ=YEARLY;BYMONTH=10;BYDAY=-1SU
END:STANDARD
END:VTIMEZONE
BEGIN:VEVENT
UID:cc28b440c5cfa8ef87cbe81e661689f8
SUMMARY:Beethoven: Rasumowsky-Streichquartette Nr. 1-3 op. 59
URL:https://www.concerti.de/termine/beethoven-rasumowsky-streichquartette-nr-1-3-op-59-stadtcasino-basel-890001/
DTSTART;TZID=Europe/Berlin:20260607T190000
DTEND;TZID=Europe/Berlin:20260607T210000
DESCRIPTION:Interpreten: Sonos Quartett \nhttps://www.concerti.de/termine/beethoven-rasumowsky-streichquartette-nr-1-3-op-59-stadtcasino-basel-890001/
LOCATION:Stadtcasino Basel\, Konzertgasse 1\, 4051 Basel
END:VEVENT
END:VCALENDAR