BEGIN:VCALENDAR
VERSION:2.0
PRODID:concerti//https://www.concerti.de
CALSCALE:GREGORIAN
BEGIN:VTIMEZONE
TZID:Europe/Berlin
X-LIC-LOCATION:Europe/Berlin
BEGIN:DAYLIGHT
TZOFFSETFROM:+0100
TZOFFSETTO:+0200
TZNAME:CEST
DTSTART:19700329T020000
RRULE:FREQ=YEARLY;BYMONTH=3;BYDAY=-1SU
END:DAYLIGHT
BEGIN:STANDARD
TZOFFSETFROM:+0200
TZOFFSETTO:+0100
TZNAME:CET
DTSTART:19701025T030000
RRULE:FREQ=YEARLY;BYMONTH=10;BYDAY=-1SU
END:STANDARD
END:VTIMEZONE
BEGIN:VEVENT
UID:1b8da8bf8cbd4790566a35f0b8dd0750
SUMMARY:Host_Opera - Orbit Festival Köln
URL:https://www.concerti.de/termine/host_opera-890341/
DTSTART;TZID=Europe/Berlin:20260425T170000
DTEND;TZID=Europe/Berlin:20260425T190000
DESCRIPTION:Interpreten: Tara Khozein (Sopran)\, Kornél Mikecz (Bassbariton)\, Dorrit Bauerecker (Akkordeon)\, Lola Rubio (Violine)\, Elisabeth Coudoux (Violoncello)\, Jordan White (E-Gitarre)\, Josefa Beil (Schauspiel)\, Vince Varga (Regie) \nProgramm: Musik von Gryllus \nhttps://www.concerti.de/termine/host_opera-890341/
LOCATION:Comedia Theater\, Köln
END:VEVENT
END:VCALENDAR