BEGIN:VCALENDAR
VERSION:2.0
PRODID:concerti//https://www.concerti.de
CALSCALE:GREGORIAN
BEGIN:VTIMEZONE
TZID:Europe/Berlin
X-LIC-LOCATION:Europe/Berlin
BEGIN:DAYLIGHT
TZOFFSETFROM:+0100
TZOFFSETTO:+0200
TZNAME:CEST
DTSTART:19700329T020000
RRULE:FREQ=YEARLY;BYMONTH=3;BYDAY=-1SU
END:DAYLIGHT
BEGIN:STANDARD
TZOFFSETFROM:+0200
TZOFFSETTO:+0100
TZNAME:CET
DTSTART:19701025T030000
RRULE:FREQ=YEARLY;BYMONTH=10;BYDAY=-1SU
END:STANDARD
END:VTIMEZONE
BEGIN:VEVENT
UID:bccb7e5abfd5a04def316e8b67e6d62c
SUMMARY:Kölner Chaos Orchester, Axel Porath (Leitung), Maxime Morel (Leitung) - Orbit Festival Köln
URL:https://www.concerti.de/termine/koelner-chaos-orchester-axel-porath-leitung-maxime-morel-leitung-890345/
DTSTART;TZID=Europe/Berlin:20260425T140000
DTEND;TZID=Europe/Berlin:20260425T160000
DESCRIPTION:Interpreten: Kölner Chaos Orchester\, Axel Porath (Leitung)\, Maxime Morel (Leitung) \nhttps://www.concerti.de/termine/koelner-chaos-orchester-axel-porath-leitung-maxime-morel-leitung-890345/
LOCATION:Alte Feuerwache\, Köln
END:VEVENT
END:VCALENDAR