BEGIN:VCALENDAR
VERSION:2.0
PRODID:concerti//https://www.concerti.de
CALSCALE:GREGORIAN
BEGIN:VTIMEZONE
TZID:Europe/Berlin
X-LIC-LOCATION:Europe/Berlin
BEGIN:DAYLIGHT
TZOFFSETFROM:+0100
TZOFFSETTO:+0200
TZNAME:CEST
DTSTART:19700329T020000
RRULE:FREQ=YEARLY;BYMONTH=3;BYDAY=-1SU
END:DAYLIGHT
BEGIN:STANDARD
TZOFFSETFROM:+0200
TZOFFSETTO:+0100
TZNAME:CET
DTSTART:19701025T030000
RRULE:FREQ=YEARLY;BYMONTH=10;BYDAY=-1SU
END:STANDARD
END:VTIMEZONE
BEGIN:VEVENT
UID:7783ef5bde4b545d49da5680f9bcb540
SUMMARY:Die Dualen / Grand Jury - Orbit Festival Köln
URL:https://www.concerti.de/termine/die-dualen-grand-jury-890350/
DTSTART;TZID=Europe/Berlin:20260425T203000
DTEND;TZID=Europe/Berlin:20260425T223000
DESCRIPTION:Interpreten: Deutsches Stromorchester \nhttps://www.concerti.de/termine/die-dualen-grand-jury-890350/
LOCATION:Auermühle\, Köln
END:VEVENT
END:VCALENDAR