BEGIN:VCALENDAR
VERSION:2.0
PRODID:concerti//https://www.concerti.de
CALSCALE:GREGORIAN
BEGIN:VTIMEZONE
TZID:Europe/Berlin
X-LIC-LOCATION:Europe/Berlin
BEGIN:DAYLIGHT
TZOFFSETFROM:+0100
TZOFFSETTO:+0200
TZNAME:CEST
DTSTART:19700329T020000
RRULE:FREQ=YEARLY;BYMONTH=3;BYDAY=-1SU
END:DAYLIGHT
BEGIN:STANDARD
TZOFFSETFROM:+0200
TZOFFSETTO:+0100
TZNAME:CET
DTSTART:19701025T030000
RRULE:FREQ=YEARLY;BYMONTH=10;BYDAY=-1SU
END:STANDARD
END:VTIMEZONE
BEGIN:VEVENT
UID:83cc0ebc66335762f01e327d5b3a5a72
SUMMARY:Sombre. In The Shadows of Our Time - Orbit Festival Köln
URL:https://www.concerti.de/termine/sombre-in-the-shadows-of-our-time-890359/
DTSTART;TZID=Europe/Berlin:20260425T193000
DTEND;TZID=Europe/Berlin:20260425T213000
DESCRIPTION:Interpreten: Robert Koller (Bassbariton)\, Eija Kankaanranta (Kantele)\, Camilla Hoitenga (Flöte)\, Aleksander Gabrys (Kontrabass)\, Fritz Hauser (Perkussion)\, Aleksi Barriêre (Regie) \nProgramm: Musik von Barriêre & Marti \nhttps://www.concerti.de/termine/sombre-in-the-shadows-of-our-time-890359/
LOCATION:Alte Feuerwache\, Köln
END:VEVENT
END:VCALENDAR