BEGIN:VCALENDAR
VERSION:2.0
PRODID:concerti//https://www.concerti.de
CALSCALE:GREGORIAN
BEGIN:VTIMEZONE
TZID:Europe/Berlin
X-LIC-LOCATION:Europe/Berlin
BEGIN:DAYLIGHT
TZOFFSETFROM:+0100
TZOFFSETTO:+0200
TZNAME:CEST
DTSTART:19700329T020000
RRULE:FREQ=YEARLY;BYMONTH=3;BYDAY=-1SU
END:DAYLIGHT
BEGIN:STANDARD
TZOFFSETFROM:+0200
TZOFFSETTO:+0100
TZNAME:CET
DTSTART:19701025T030000
RRULE:FREQ=YEARLY;BYMONTH=10;BYDAY=-1SU
END:STANDARD
END:VTIMEZONE
BEGIN:VEVENT
UID:ede285ad0551a5c70225d419a7f60428
SUMMARY:Amatis Trio, Samuel Shepherd (Moderation) - Amatis Festival
URL:https://www.concerti.de/termine/amatis-trio-samuel-shepherd-moderation-890650/
DTSTART;TZID=Europe/Berlin:20260425T193000
DTEND;TZID=Europe/Berlin:20260425T213000
DESCRIPTION:Interpreten: Amatis Trio\, Samuel Shepherd (Moderation) \nProgramm: Werke von Schubert\, Brahms\, Ravel\, Poulenc\, Liszt\, Saint-Saëns\, Gershwin & Piazzolla \nhttps://www.concerti.de/termine/amatis-trio-samuel-shepherd-moderation-890650/
LOCATION:Konzertrotunde\, Bad Reichenhall
END:VEVENT
END:VCALENDAR