BEGIN:VCALENDAR
VERSION:2.0
PRODID:concerti//https://www.concerti.de
CALSCALE:GREGORIAN
BEGIN:VTIMEZONE
TZID:Europe/Berlin
X-LIC-LOCATION:Europe/Berlin
BEGIN:DAYLIGHT
TZOFFSETFROM:+0100
TZOFFSETTO:+0200
TZNAME:CEST
DTSTART:19700329T020000
RRULE:FREQ=YEARLY;BYMONTH=3;BYDAY=-1SU
END:DAYLIGHT
BEGIN:STANDARD
TZOFFSETFROM:+0200
TZOFFSETTO:+0100
TZNAME:CET
DTSTART:19701025T030000
RRULE:FREQ=YEARLY;BYMONTH=10;BYDAY=-1SU
END:STANDARD
END:VTIMEZONE
BEGIN:VEVENT
UID:34b3c7a64574262d2f2ce952d095ecb1
SUMMARY:Stadtorchester Luzern, Orchester Santa Maria, Manuel Oswald (Leitung), Droujelub Yanakiew (Leitung)
URL:https://www.concerti.de/termine/stadtorchester-luzern-orchester-santa-maria-manuel-oswald-leitung-droujelub-yanakiew-leitung-kkl-kultur-und-kongresszentrum-luzern-890723/
DTSTART;TZID=Europe/Berlin:20260531T110000
DTEND;TZID=Europe/Berlin:20260531T130000
DESCRIPTION:Interpreten: Stadtorchester Luzern\, Orchester Santa Maria\, Manuel Oswald (Leitung)\, Droujelub Yanakiew (Leitung) \nProgramm: Bonis:  Le Songe de Cléopâtre\, L. Boulanger: D’un matin de printemps & D’un soir triste\, Mussorgski: Bilder einer Ausstellung \nhttps://www.concerti.de/termine/stadtorchester-luzern-orchester-santa-maria-manuel-oswald-leitung-droujelub-yanakiew-leitung-kkl-kultur-und-kongresszentrum-luzern-890723/
LOCATION:KKL Kultur- und Kongresszentrum Luzern\, Europaplatz 1\, 6005 Luzern
END:VEVENT
END:VCALENDAR