BEGIN:VCALENDAR
VERSION:2.0
PRODID:concerti//https://www.concerti.de
CALSCALE:GREGORIAN
BEGIN:VTIMEZONE
TZID:Europe/Berlin
X-LIC-LOCATION:Europe/Berlin
BEGIN:DAYLIGHT
TZOFFSETFROM:+0100
TZOFFSETTO:+0200
TZNAME:CEST
DTSTART:19700329T020000
RRULE:FREQ=YEARLY;BYMONTH=3;BYDAY=-1SU
END:DAYLIGHT
BEGIN:STANDARD
TZOFFSETFROM:+0200
TZOFFSETTO:+0100
TZNAME:CET
DTSTART:19701025T030000
RRULE:FREQ=YEARLY;BYMONTH=10;BYDAY=-1SU
END:STANDARD
END:VTIMEZONE
BEGIN:VEVENT
UID:ca3a4667794a409703df3428b231f0ac
SUMMARY:Haydn: Die Schöpfung
URL:https://www.concerti.de/termine/haydn-die-schoepfung-kkl-kultur-und-kongresszentrum-luzern-890735/
DTSTART;TZID=Europe/Berlin:20260628T183000
DTEND;TZID=Europe/Berlin:20260628T203000
DESCRIPTION:Interpreten: Maja Bader (Sopran)\, Jakob Pilgram (Tenor)\, Grégoire May (Bass)\, Luzerner Mädchenchor\, Luzerner Sängerknaben\, Orchester des Collegium Musicum Luzern\, Eberhard Rex (Leitung) \nhttps://www.concerti.de/termine/haydn-die-schoepfung-kkl-kultur-und-kongresszentrum-luzern-890735/
LOCATION:KKL Kultur- und Kongresszentrum Luzern\, Europaplatz 1\, 6005 Luzern
END:VEVENT
END:VCALENDAR