BEGIN:VCALENDAR
VERSION:2.0
PRODID:concerti//https://www.concerti.de
CALSCALE:GREGORIAN
BEGIN:VTIMEZONE
TZID:Europe/Berlin
X-LIC-LOCATION:Europe/Berlin
BEGIN:DAYLIGHT
TZOFFSETFROM:+0100
TZOFFSETTO:+0200
TZNAME:CEST
DTSTART:19700329T020000
RRULE:FREQ=YEARLY;BYMONTH=3;BYDAY=-1SU
END:DAYLIGHT
BEGIN:STANDARD
TZOFFSETFROM:+0200
TZOFFSETTO:+0100
TZNAME:CET
DTSTART:19701025T030000
RRULE:FREQ=YEARLY;BYMONTH=10;BYDAY=-1SU
END:STANDARD
END:VTIMEZONE
BEGIN:VEVENT
UID:5b50d500756d7b971989c771a9d9266a
SUMMARY:Eröffnungskonzert - Intonations Festival
URL:https://www.concerti.de/termine/eroeffnungskonzert-890744/
DTSTART;TZID=Europe/Berlin:20260611T193000
DTEND;TZID=Europe/Berlin:20260611T213000
DESCRIPTION:Interpreten: Dorothea Röschmann (Sopran)\, Astrig Siranossian (Gesang & Violoncello)\, Karl-Heinz Steffens (Klarinette)\, Bar Zemach (Horn)\, Daniele Damiano (Fagott)\, Boris Brovtsyn (Violine)\, Mohamed Hiber (Violine)\, Adrien La Marca (Viola)\, Astrig Siranossian (Violoncello)\, Nabil Shehata (Kontrabass)\, Martha Argerich (Klavier)\, Yael Kareth (Klavier)\, Julia Hamos (Klavier) \nProgramm: Beethoven: Große Fuge B-Dur op. 134\, Septett Es-Dur op. 20 & Violinsonate Nr. 5 F-Dur op. 24: „Frühling“\, Weill: Ausgewählte Lieder\, Siranossian: Ausgewählte Armenische Volkslieder \nhttps://www.concerti.de/termine/eroeffnungskonzert-890744/
LOCATION:Kühlhaus\, Berlin
END:VEVENT
END:VCALENDAR