BEGIN:VCALENDAR
VERSION:2.0
PRODID:concerti//https://www.concerti.de
CALSCALE:GREGORIAN
BEGIN:VTIMEZONE
TZID:Europe/Berlin
X-LIC-LOCATION:Europe/Berlin
BEGIN:DAYLIGHT
TZOFFSETFROM:+0100
TZOFFSETTO:+0200
TZNAME:CEST
DTSTART:19700329T020000
RRULE:FREQ=YEARLY;BYMONTH=3;BYDAY=-1SU
END:DAYLIGHT
BEGIN:STANDARD
TZOFFSETFROM:+0200
TZOFFSETTO:+0100
TZNAME:CET
DTSTART:19701025T030000
RRULE:FREQ=YEARLY;BYMONTH=10;BYDAY=-1SU
END:STANDARD
END:VTIMEZONE
BEGIN:VEVENT
UID:341854f412cd4bedc3e60fa30bdab186
SUMMARY:Aduma Saxophon-Quartett - Lindower Sommermusiken: Eröffnungskonzert
URL:https://www.concerti.de/termine/aduma-saxophon-quartett-890835/
DTSTART;TZID=Europe/Berlin:20260627T200000
DTEND;TZID=Europe/Berlin:20260627T220000
DESCRIPTION:Interpreten: Aduma Saxophon-Quartett \nProgramm: Werke von Debussy\, Françaix\, Romero\, Ozaki u. a. \nhttps://www.concerti.de/termine/aduma-saxophon-quartett-890835/
LOCATION:Stadtkirche\, Lindow
END:VEVENT
END:VCALENDAR