BEGIN:VCALENDAR
VERSION:2.0
PRODID:concerti//https://www.concerti.de
CALSCALE:GREGORIAN
BEGIN:VTIMEZONE
TZID:Europe/Berlin
X-LIC-LOCATION:Europe/Berlin
BEGIN:DAYLIGHT
TZOFFSETFROM:+0100
TZOFFSETTO:+0200
TZNAME:CEST
DTSTART:19700329T020000
RRULE:FREQ=YEARLY;BYMONTH=3;BYDAY=-1SU
END:DAYLIGHT
BEGIN:STANDARD
TZOFFSETFROM:+0200
TZOFFSETTO:+0100
TZNAME:CET
DTSTART:19701025T030000
RRULE:FREQ=YEARLY;BYMONTH=10;BYDAY=-1SU
END:STANDARD
END:VTIMEZONE
BEGIN:VEVENT
UID:99ddc771232109ca3ca638fe1ae4a4be
SUMMARY:Jana Karin Adam (Mezzosopran), Franns von Promnitz (Orgel) - Lindower Sommermusiken
URL:https://www.concerti.de/termine/jana-karin-adam-mezzosopran-franns-von-promnitz-orgel-890853/
DTSTART;TZID=Europe/Berlin:20260808T200000
DTEND;TZID=Europe/Berlin:20260808T220000
DESCRIPTION:Interpreten: Jana Karin Adam (Mezzosopran)\, Franns von Promnitz (Orgel) \nProgramm: Werke von Gerhardt & J. S. Bach \nhttps://www.concerti.de/termine/jana-karin-adam-mezzosopran-franns-von-promnitz-orgel-890853/
LOCATION:Stadtkirche\, Lindow
END:VEVENT
END:VCALENDAR