BEGIN:VCALENDAR
VERSION:2.0
PRODID:concerti//https://www.concerti.de
CALSCALE:GREGORIAN
BEGIN:VTIMEZONE
TZID:Europe/Berlin
X-LIC-LOCATION:Europe/Berlin
BEGIN:DAYLIGHT
TZOFFSETFROM:+0100
TZOFFSETTO:+0200
TZNAME:CEST
DTSTART:19700329T020000
RRULE:FREQ=YEARLY;BYMONTH=3;BYDAY=-1SU
END:DAYLIGHT
BEGIN:STANDARD
TZOFFSETFROM:+0200
TZOFFSETTO:+0100
TZNAME:CET
DTSTART:19701025T030000
RRULE:FREQ=YEARLY;BYMONTH=10;BYDAY=-1SU
END:STANDARD
END:VTIMEZONE
BEGIN:VEVENT
UID:30217c58486704d12652927fcfccbf44
SUMMARY:Wenn ich mir was wünschen dürfte - Lindower Sommermusiken
URL:https://www.concerti.de/termine/wenn-ich-mir-was-wuenschen-duerfte-890859/
DTSTART;TZID=Europe/Berlin:20260822T200000
DTEND;TZID=Europe/Berlin:20260822T220000
DESCRIPTION:Interpreten: Anna Fey (Sopran)\, Ensemble Unikat \nhttps://www.concerti.de/termine/wenn-ich-mir-was-wuenschen-duerfte-890859/
LOCATION:Stadtkirche\, Lindow
END:VEVENT
END:VCALENDAR