BEGIN:VCALENDAR
VERSION:2.0
PRODID:concerti//https://www.concerti.de
CALSCALE:GREGORIAN
BEGIN:VTIMEZONE
TZID:Europe/Berlin
X-LIC-LOCATION:Europe/Berlin
BEGIN:DAYLIGHT
TZOFFSETFROM:+0100
TZOFFSETTO:+0200
TZNAME:CEST
DTSTART:19700329T020000
RRULE:FREQ=YEARLY;BYMONTH=3;BYDAY=-1SU
END:DAYLIGHT
BEGIN:STANDARD
TZOFFSETFROM:+0200
TZOFFSETTO:+0100
TZNAME:CET
DTSTART:19701025T030000
RRULE:FREQ=YEARLY;BYMONTH=10;BYDAY=-1SU
END:STANDARD
END:VTIMEZONE
BEGIN:VEVENT
UID:f390d5fe4e1e933edb3f65d4a6a87180
SUMMARY:Oper.Art.Aburdum - Oper Oder Spree
URL:https://www.concerti.de/termine/oper-art-aburdum-890941/
DTSTART;TZID=Europe/Berlin:20260614T160000
DTEND;TZID=Europe/Berlin:20260614T180000
DESCRIPTION:Interpreten: Oper.Art.Aburdum \nhttps://www.concerti.de/termine/oper-art-aburdum-890941/
LOCATION:Pfarrkirche zum Heiligen Kreuz\, Neuzelle
END:VEVENT
END:VCALENDAR