BEGIN:VCALENDAR
VERSION:2.0
PRODID:concerti//https://www.concerti.de
CALSCALE:GREGORIAN
BEGIN:VTIMEZONE
TZID:Europe/Berlin
X-LIC-LOCATION:Europe/Berlin
BEGIN:DAYLIGHT
TZOFFSETFROM:+0100
TZOFFSETTO:+0200
TZNAME:CEST
DTSTART:19700329T020000
RRULE:FREQ=YEARLY;BYMONTH=3;BYDAY=-1SU
END:DAYLIGHT
BEGIN:STANDARD
TZOFFSETFROM:+0200
TZOFFSETTO:+0100
TZNAME:CET
DTSTART:19701025T030000
RRULE:FREQ=YEARLY;BYMONTH=10;BYDAY=-1SU
END:STANDARD
END:VTIMEZONE
BEGIN:VEVENT
UID:31919598b040eb2390192f5819179c43
SUMMARY:Mussorgski/Ravel: Bilder einer Ausstellung
URL:https://www.concerti.de/termine/mussorgski-ravel-bilder-einer-ausstellung-890987/
DTSTART;TZID=Europe/Berlin:20260609T180000
DTEND;TZID=Europe/Berlin:20260609T200000
DESCRIPTION:Interpreten: Staatsorchester Kassel\, Joachim Frazier (Rezitation) \nhttps://www.concerti.de/termine/mussorgski-ravel-bilder-einer-ausstellung-890987/
LOCATION:Interim\, Kassel
END:VEVENT
END:VCALENDAR