BEGIN:VCALENDAR
VERSION:2.0
PRODID:concerti//https://www.concerti.de
CALSCALE:GREGORIAN
BEGIN:VTIMEZONE
TZID:Europe/Berlin
X-LIC-LOCATION:Europe/Berlin
BEGIN:DAYLIGHT
TZOFFSETFROM:+0100
TZOFFSETTO:+0200
TZNAME:CEST
DTSTART:19700329T020000
RRULE:FREQ=YEARLY;BYMONTH=3;BYDAY=-1SU
END:DAYLIGHT
BEGIN:STANDARD
TZOFFSETFROM:+0200
TZOFFSETTO:+0100
TZNAME:CET
DTSTART:19701025T030000
RRULE:FREQ=YEARLY;BYMONTH=10;BYDAY=-1SU
END:STANDARD
END:VTIMEZONE
BEGIN:VEVENT
UID:4d0a844d815ca7244e7e6234db788a97
SUMMARY:Hongyeon Jeong (Klavier), Jaehyun Jeon (Klavier), Mixia Kang (Violine), Philharmonisches Orchester Gießen, Vladimir Yaskorski (Leitung)
URL:https://www.concerti.de/termine/hongyeon-jeong-klavier-jaehyun-jeon-klavier-mixia-kang-violine-philharmonisches-orchester-giessen-vladimir-yaskorski-leitung-stadttheater-giessen-890997/
DTSTART;TZID=Europe/Berlin:20260610T193000
DTEND;TZID=Europe/Berlin:20260610T213000
DESCRIPTION:Interpreten: Hongyeon Jeong (Klavier)\, Jaehyun Jeon (Klavier)\, Mixia Kang (Violine)\, Philharmonisches Orchester Gießen\, Vladimir Yaskorski (Leitung) \nProgramm: Tschaikowsky: Klavierkonzert Nr. 1 b-Moll\, Mendelssohn: Klavierkonzert Nr. 1 g-Moll\, Prokofjew: Violinkonzert Nr. 1 D-Dur \nhttps://www.concerti.de/termine/hongyeon-jeong-klavier-jaehyun-jeon-klavier-mixia-kang-violine-philharmonisches-orchester-giessen-vladimir-yaskorski-leitung-stadttheater-giessen-890997/
LOCATION:Stadttheater Gießen\, Südanlage 1\, 35390 Gießen
END:VEVENT
END:VCALENDAR