BEGIN:VCALENDAR
VERSION:2.0
PRODID:concerti//https://www.concerti.de
CALSCALE:GREGORIAN
BEGIN:VTIMEZONE
TZID:Europe/Berlin
X-LIC-LOCATION:Europe/Berlin
BEGIN:DAYLIGHT
TZOFFSETFROM:+0100
TZOFFSETTO:+0200
TZNAME:CEST
DTSTART:19700329T020000
RRULE:FREQ=YEARLY;BYMONTH=3;BYDAY=-1SU
END:DAYLIGHT
BEGIN:STANDARD
TZOFFSETFROM:+0200
TZOFFSETTO:+0100
TZNAME:CET
DTSTART:19701025T030000
RRULE:FREQ=YEARLY;BYMONTH=10;BYDAY=-1SU
END:STANDARD
END:VTIMEZONE
BEGIN:VEVENT
UID:2f13eb6847fd2326a28f812eeb04c6b3
SUMMARY:Oliver Neubauer (Violine), Pauline van der Rest (Violine), Wassili Wohlgemuth (Viola), Clara Yuna Friedensburg (Violoncello), Dominik Wagner (Kontrabass), Itamar Carmeli (Cembalo), Richard Galliano (Akkordeon)
URL:https://www.concerti.de/termine/oliver-neubauer-violine-pauline-van-der-rest-violine-wassili-wohlgemuth-viola-clara-yuna-friedensburg-violoncello-dominik-wagner-kontrabass-itamar-carmeli-cembalo-richard-galliano-a-891003/
DTSTART;TZID=Europe/Berlin:20260611T200000
DTEND;TZID=Europe/Berlin:20260611T220000
DESCRIPTION:Interpreten: Oliver Neubauer (Violine)\, Pauline van der Rest (Violine)\, Wassili Wohlgemuth (Viola)\, Clara Yuna Friedensburg (Violoncello)\, Dominik Wagner (Kontrabass)\, Itamar Carmeli (Cembalo)\, Richard Galliano (Akkordeon) \nProgramm: J. S. Bach: Partita Nr. 3 E-Dur BWV 1006 (Auszüge)\, Sonate Es-Dur BWV 1031 (Auszüge)\, Cembalokonzert f-Moll BWV 1056 (Auszüge) & Violinkonzert Nr. 1 a-Moll BWV 1041 (Auszüge)\, Galliano: Aria et Variation\, Musette-Walzer u. a. \nhttps://www.concerti.de/termine/oliver-neubauer-violine-pauline-van-der-rest-violine-wassili-wohlgemuth-viola-clara-yuna-friedensburg-violoncello-dominik-wagner-kontrabass-itamar-carmeli-cembalo-richard-galliano-a-891003/
LOCATION:Casals Forum Kronberg\, Beethovenpl. 1\, 61476 Kronberg (Taunus)
END:VEVENT
END:VCALENDAR