BEGIN:VCALENDAR
VERSION:2.0
PRODID:concerti//https://www.concerti.de
CALSCALE:GREGORIAN
BEGIN:VTIMEZONE
TZID:Europe/Berlin
X-LIC-LOCATION:Europe/Berlin
BEGIN:DAYLIGHT
TZOFFSETFROM:+0100
TZOFFSETTO:+0200
TZNAME:CEST
DTSTART:19700329T020000
RRULE:FREQ=YEARLY;BYMONTH=3;BYDAY=-1SU
END:DAYLIGHT
BEGIN:STANDARD
TZOFFSETFROM:+0200
TZOFFSETTO:+0100
TZNAME:CET
DTSTART:19701025T030000
RRULE:FREQ=YEARLY;BYMONTH=10;BYDAY=-1SU
END:STANDARD
END:VTIMEZONE
BEGIN:VEVENT
UID:9034ccdf041cd600a372acf099d5ef81
SUMMARY:Walter Smith III (saxophone), hr-Bigband, Darcy James Argue (Leitung)
URL:https://www.concerti.de/termine/walter-smith-iii-saxophone-hr-bigband-darcy-james-argue-leitung-stadttheater-giessen-891013/
DTSTART;TZID=Europe/Berlin:20260612T200000
DTEND;TZID=Europe/Berlin:20260612T220000
DESCRIPTION:Interpreten: Walter Smith III (saxophone)\, hr-Bigband\, Darcy James Argue (Leitung) \nhttps://www.concerti.de/termine/walter-smith-iii-saxophone-hr-bigband-darcy-james-argue-leitung-stadttheater-giessen-891013/
LOCATION:Stadttheater Gießen\, Südanlage 1\, 35390 Gießen
END:VEVENT
END:VCALENDAR