BEGIN:VCALENDAR
VERSION:2.0
PRODID:concerti//https://www.concerti.de
CALSCALE:GREGORIAN
BEGIN:VTIMEZONE
TZID:Europe/Berlin
X-LIC-LOCATION:Europe/Berlin
BEGIN:DAYLIGHT
TZOFFSETFROM:+0100
TZOFFSETTO:+0200
TZNAME:CEST
DTSTART:19700329T020000
RRULE:FREQ=YEARLY;BYMONTH=3;BYDAY=-1SU
END:DAYLIGHT
BEGIN:STANDARD
TZOFFSETFROM:+0200
TZOFFSETTO:+0100
TZNAME:CET
DTSTART:19701025T030000
RRULE:FREQ=YEARLY;BYMONTH=10;BYDAY=-1SU
END:STANDARD
END:VTIMEZONE
BEGIN:VEVENT
UID:d4b8c8a9feb7084a0bfb51347e43c612
SUMMARY:Tabea Zimmermann (Viola), Thomas Hoppe (Klavier)
URL:https://www.concerti.de/termine/tabea-zimmermann-viola-thomas-hoppe-klavier-891037/
DTSTART;TZID=Europe/Berlin:20260614T180000
DTEND;TZID=Europe/Berlin:20260614T200000
DESCRIPTION:Interpreten: Tabea Zimmermann (Viola)\, Thomas Hoppe (Klavier) \nProgramm: Hummel: Violasonate Es-Dur op. 5/3\, Brahms: Violasonate op. 78\, Reger: Violasonate op. 107 \nhttps://www.concerti.de/termine/tabea-zimmermann-viola-thomas-hoppe-klavier-891037/
LOCATION:Landgrafenschloss\, Marburg
END:VEVENT
END:VCALENDAR