BEGIN:VCALENDAR
VERSION:2.0
PRODID:concerti//https://www.concerti.de
CALSCALE:GREGORIAN
BEGIN:VTIMEZONE
TZID:Europe/Berlin
X-LIC-LOCATION:Europe/Berlin
BEGIN:DAYLIGHT
TZOFFSETFROM:+0100
TZOFFSETTO:+0200
TZNAME:CEST
DTSTART:19700329T020000
RRULE:FREQ=YEARLY;BYMONTH=3;BYDAY=-1SU
END:DAYLIGHT
BEGIN:STANDARD
TZOFFSETFROM:+0200
TZOFFSETTO:+0100
TZNAME:CET
DTSTART:19701025T030000
RRULE:FREQ=YEARLY;BYMONTH=10;BYDAY=-1SU
END:STANDARD
END:VTIMEZONE
BEGIN:VEVENT
UID:ae852169d2d02a27e3e31d270a951465
SUMMARY:Kirill Gerstein (Klavier), Chamber Orchestra of Europe
URL:https://www.concerti.de/termine/kirill-gerstein-klavier-chamber-orchestra-of-europe-casals-forum-kronberg-891051/
DTSTART;TZID=Europe/Berlin:20260617T194500
DTEND;TZID=Europe/Berlin:20260617T214500
DESCRIPTION:Interpreten: Kirill Gerstein (Klavier)\, Chamber Orchestra of Europe \nProgramm: Beethoven: Klavierkonzerte Nr. 0 Es-Dur WoO4 & Nr. 3 c-Moll op. 37 \nhttps://www.concerti.de/termine/kirill-gerstein-klavier-chamber-orchestra-of-europe-casals-forum-kronberg-891051/
LOCATION:Casals Forum Kronberg\, Beethovenpl. 1\, 61476 Kronberg (Taunus)
END:VEVENT
END:VCALENDAR