BEGIN:VCALENDAR
VERSION:2.0
PRODID:concerti//https://www.concerti.de
CALSCALE:GREGORIAN
BEGIN:VTIMEZONE
TZID:Europe/Berlin
X-LIC-LOCATION:Europe/Berlin
BEGIN:DAYLIGHT
TZOFFSETFROM:+0100
TZOFFSETTO:+0200
TZNAME:CEST
DTSTART:19700329T020000
RRULE:FREQ=YEARLY;BYMONTH=3;BYDAY=-1SU
END:DAYLIGHT
BEGIN:STANDARD
TZOFFSETFROM:+0200
TZOFFSETTO:+0100
TZNAME:CET
DTSTART:19701025T030000
RRULE:FREQ=YEARLY;BYMONTH=10;BYDAY=-1SU
END:STANDARD
END:VTIMEZONE
BEGIN:VEVENT
UID:61edf63f72b530011bcdd0c91adf6a84
SUMMARY:Kirill Gerstein (Klavier), Chamber Orchestra of Europe
URL:https://www.concerti.de/termine/kirill-gerstein-klavier-chamber-orchestra-of-europe-casals-forum-kronberg-891051/
DTSTART;TZID=Europe/Berlin:20260619T194500
DTEND;TZID=Europe/Berlin:20260619T214500
DESCRIPTION:Interpreten: Kirill Gerstein (Klavier)\, Chamber Orchestra of Europe \nProgramm: Beethoven: Klavierkonzerte Nr. 1 C-Dur op. 15 & Nr. 5 Es-Dur op. 73 „Emperor“ \nhttps://www.concerti.de/termine/kirill-gerstein-klavier-chamber-orchestra-of-europe-casals-forum-kronberg-891051/
LOCATION:Casals Forum Kronberg\, Beethovenpl. 1\, 61476 Kronberg (Taunus)
END:VEVENT
END:VCALENDAR