BEGIN:VCALENDAR
VERSION:2.0
PRODID:concerti//https://www.concerti.de
CALSCALE:GREGORIAN
BEGIN:VTIMEZONE
TZID:Europe/Berlin
X-LIC-LOCATION:Europe/Berlin
BEGIN:DAYLIGHT
TZOFFSETFROM:+0100
TZOFFSETTO:+0200
TZNAME:CEST
DTSTART:19700329T020000
RRULE:FREQ=YEARLY;BYMONTH=3;BYDAY=-1SU
END:DAYLIGHT
BEGIN:STANDARD
TZOFFSETFROM:+0200
TZOFFSETTO:+0100
TZNAME:CET
DTSTART:19701025T030000
RRULE:FREQ=YEARLY;BYMONTH=10;BYDAY=-1SU
END:STANDARD
END:VTIMEZONE
BEGIN:VEVENT
UID:305b22fcc7c698be700a6f02d0b486a4
SUMMARY:Kirill Gerstein (Klavier), Chamber Orchestra of Europe
URL:https://www.concerti.de/termine/kirill-gerstein-klavier-chamber-orchestra-of-europe-casals-forum-kronberg-891051/
DTSTART;TZID=Europe/Berlin:20260621T110000
DTEND;TZID=Europe/Berlin:20260621T130000
DESCRIPTION:Interpreten: Kirill Gerstein (Klavier)\, Chamber Orchestra of Europe \nProgramm: Beethoven: Klavierkonzerte Nr. 2 B-Dur op. 19 & Nr. 4 G-Dur op. 58 \nhttps://www.concerti.de/termine/kirill-gerstein-klavier-chamber-orchestra-of-europe-casals-forum-kronberg-891051/
LOCATION:Casals Forum Kronberg\, Beethovenpl. 1\, 61476 Kronberg (Taunus)
END:VEVENT
END:VCALENDAR