BEGIN:VCALENDAR
VERSION:2.0
PRODID:concerti//https://www.concerti.de
CALSCALE:GREGORIAN
BEGIN:VTIMEZONE
TZID:Europe/Berlin
X-LIC-LOCATION:Europe/Berlin
BEGIN:DAYLIGHT
TZOFFSETFROM:+0100
TZOFFSETTO:+0200
TZNAME:CEST
DTSTART:19700329T020000
RRULE:FREQ=YEARLY;BYMONTH=3;BYDAY=-1SU
END:DAYLIGHT
BEGIN:STANDARD
TZOFFSETFROM:+0200
TZOFFSETTO:+0100
TZNAME:CET
DTSTART:19701025T030000
RRULE:FREQ=YEARLY;BYMONTH=10;BYDAY=-1SU
END:STANDARD
END:VTIMEZONE
BEGIN:VEVENT
UID:3894f524664bc0397f05cff45b70114e
SUMMARY:Klenke Quartett Weimar, Henschel Quartett
URL:https://www.concerti.de/termine/klenke-quartett-weimar-henschel-quartett-891090/
DTSTART;TZID=Europe/Berlin:20260625T203000
DTEND;TZID=Europe/Berlin:20260625T223000
DESCRIPTION:Interpreten: Klenke Quartett Weimar\, Henschel Quartett \nProgramm: Beethoven: Fuge nach der Ouvertüre zu „Solomon“ von Händel & Streichquartett F-Dur op. 59/1 „Rasumowsky“\, Mayer: Streichquintett Nr. 1 d-Moll\, Schostakowitsch: Zwei Stücke op. 11 \nhttps://www.concerti.de/termine/klenke-quartett-weimar-henschel-quartett-891090/
LOCATION:Ehem. Abtei\, Seligenstadt
END:VEVENT
END:VCALENDAR