BEGIN:VCALENDAR
VERSION:2.0
PRODID:concerti//https://www.concerti.de
CALSCALE:GREGORIAN
BEGIN:VTIMEZONE
TZID:Europe/Berlin
X-LIC-LOCATION:Europe/Berlin
BEGIN:DAYLIGHT
TZOFFSETFROM:+0100
TZOFFSETTO:+0200
TZNAME:CEST
DTSTART:19700329T020000
RRULE:FREQ=YEARLY;BYMONTH=3;BYDAY=-1SU
END:DAYLIGHT
BEGIN:STANDARD
TZOFFSETFROM:+0200
TZOFFSETTO:+0100
TZNAME:CET
DTSTART:19701025T030000
RRULE:FREQ=YEARLY;BYMONTH=10;BYDAY=-1SU
END:STANDARD
END:VTIMEZONE
BEGIN:VEVENT
UID:2c045e5325fa2f164c8ae8b348702da7
SUMMARY:Luka Coetzee (Violoncello), Anna Naretto (Klavier)
URL:https://www.concerti.de/termine/luka-coetzee-violoncello-anna-naretto-klavier-casals-forum-kronberg-891094/
DTSTART;TZID=Europe/Berlin:20260626T191500
DTEND;TZID=Europe/Berlin:20260626T211500
DESCRIPTION:Interpreten: Luka Coetzee (Violoncello)\, Anna Naretto (Klavier) \nProgramm: Britten: Cellosonate C-Dur op. 65\, Rachmaninow: Sonate g-Moll op. 19\, Sarasate: Zigeunerweisen op. 20 \nhttps://www.concerti.de/termine/luka-coetzee-violoncello-anna-naretto-klavier-casals-forum-kronberg-891094/
LOCATION:Casals Forum Kronberg\, Beethovenpl. 1\, 61476 Kronberg (Taunus)
END:VEVENT
END:VCALENDAR