BEGIN:VCALENDAR
VERSION:2.0
PRODID:concerti//https://www.concerti.de
CALSCALE:GREGORIAN
BEGIN:VTIMEZONE
TZID:Europe/Berlin
X-LIC-LOCATION:Europe/Berlin
BEGIN:DAYLIGHT
TZOFFSETFROM:+0100
TZOFFSETTO:+0200
TZNAME:CEST
DTSTART:19700329T020000
RRULE:FREQ=YEARLY;BYMONTH=3;BYDAY=-1SU
END:DAYLIGHT
BEGIN:STANDARD
TZOFFSETFROM:+0200
TZOFFSETTO:+0100
TZNAME:CET
DTSTART:19701025T030000
RRULE:FREQ=YEARLY;BYMONTH=10;BYDAY=-1SU
END:STANDARD
END:VTIMEZONE
BEGIN:VEVENT
UID:e416fc1d90adb91115637e65b6bdcf08
SUMMARY:Christoph Eglhuber (Gitarre), Klenke Quartett Weimar, Henschel Quartett
URL:https://www.concerti.de/termine/christoph-eglhuber-gitarre-klenke-quartett-weimar-henschel-quartett-891101/
DTSTART;TZID=Europe/Berlin:20260626T203000
DTEND;TZID=Europe/Berlin:20260626T223000
DESCRIPTION:Interpreten: Christoph Eglhuber (Gitarre)\, Klenke Quartett Weimar\, Henschel Quartett \nProgramm: J. S. Bach: Doppelkonzert d-Moll\, Ricerar á 6 aus Das Musikalische Opfer BWV 1079 & Brandenburgisches Konzert Nr. 3 G-Dur BWV 1048\, Vivaldi: Concerto d-Moll RV 540\, Triosonate g-Moll RV 85 u. a. \nhttps://www.concerti.de/termine/christoph-eglhuber-gitarre-klenke-quartett-weimar-henschel-quartett-891101/
LOCATION:Ehem. Abtei\, Seligenstadt
END:VEVENT
END:VCALENDAR