BEGIN:VCALENDAR
VERSION:2.0
PRODID:concerti//https://www.concerti.de
CALSCALE:GREGORIAN
BEGIN:VTIMEZONE
TZID:Europe/Berlin
X-LIC-LOCATION:Europe/Berlin
BEGIN:DAYLIGHT
TZOFFSETFROM:+0100
TZOFFSETTO:+0200
TZNAME:CEST
DTSTART:19700329T020000
RRULE:FREQ=YEARLY;BYMONTH=3;BYDAY=-1SU
END:DAYLIGHT
BEGIN:STANDARD
TZOFFSETFROM:+0200
TZOFFSETTO:+0100
TZNAME:CET
DTSTART:19701025T030000
RRULE:FREQ=YEARLY;BYMONTH=10;BYDAY=-1SU
END:STANDARD
END:VTIMEZONE
BEGIN:VEVENT
UID:913a38cf48fa85f2a4eabebd48039d15
SUMMARY:Jinzhu Li (Violine), Rie Kibayashi (Klavier)
URL:https://www.concerti.de/termine/jinzhu-li-violine-rie-kibayashi-klavier-casals-forum-kronberg-891107/
DTSTART;TZID=Europe/Berlin:20260627T141500
DTEND;TZID=Europe/Berlin:20260627T161500
DESCRIPTION:Interpreten: Jinzhu Li (Violine)\, Rie Kibayashi (Klavier) \nProgramm: J. S. Bach: Partita Nr. 2 d-Moll BWV 1004\, Prokofjew: Sonate Nr. 2 D-Dur op. 94\, Ysaÿe: Caprice d\'après l\'Etude en forme de Valse de Saint-Saëns \nhttps://www.concerti.de/termine/jinzhu-li-violine-rie-kibayashi-klavier-casals-forum-kronberg-891107/
LOCATION:Casals Forum Kronberg\, Beethovenpl. 1\, 61476 Kronberg (Taunus)
END:VEVENT
END:VCALENDAR