BEGIN:VCALENDAR
VERSION:2.0
PRODID:concerti//https://www.concerti.de
CALSCALE:GREGORIAN
BEGIN:VTIMEZONE
TZID:Europe/Berlin
X-LIC-LOCATION:Europe/Berlin
BEGIN:DAYLIGHT
TZOFFSETFROM:+0100
TZOFFSETTO:+0200
TZNAME:CEST
DTSTART:19700329T020000
RRULE:FREQ=YEARLY;BYMONTH=3;BYDAY=-1SU
END:DAYLIGHT
BEGIN:STANDARD
TZOFFSETFROM:+0200
TZOFFSETTO:+0100
TZNAME:CET
DTSTART:19701025T030000
RRULE:FREQ=YEARLY;BYMONTH=10;BYDAY=-1SU
END:STANDARD
END:VTIMEZONE
BEGIN:VEVENT
UID:34f035ffefa9d008d96091d731d77bf0
SUMMARY:Frankfurt und Busan im Dialog
URL:https://www.concerti.de/termine/frankfurt-und-busan-im-dialog-891123/
DTSTART;TZID=Europe/Berlin:20260628T110000
DTEND;TZID=Europe/Berlin:20260628T130000
DESCRIPTION:Interpreten: Kim Kyung-tae (Gitarre)\, Jung Eojin (Gitarre)\, Park Jung-hyun (Gitarre)\, Christopher Brandt (Gitarre)\, Studierende der HfMDK (Gitarre) \nProgramm: Werke von Hyun-joo\, So-young & Eun-jin \nhttps://www.concerti.de/termine/frankfurt-und-busan-im-dialog-891123/
LOCATION:HfMDK\, Frankfurt (Main)
END:VEVENT
END:VCALENDAR