BEGIN:VCALENDAR
VERSION:2.0
PRODID:concerti//https://www.concerti.de
CALSCALE:GREGORIAN
BEGIN:VTIMEZONE
TZID:Europe/Berlin
X-LIC-LOCATION:Europe/Berlin
BEGIN:DAYLIGHT
TZOFFSETFROM:+0100
TZOFFSETTO:+0200
TZNAME:CEST
DTSTART:19700329T020000
RRULE:FREQ=YEARLY;BYMONTH=3;BYDAY=-1SU
END:DAYLIGHT
BEGIN:STANDARD
TZOFFSETFROM:+0200
TZOFFSETTO:+0100
TZNAME:CET
DTSTART:19701025T030000
RRULE:FREQ=YEARLY;BYMONTH=10;BYDAY=-1SU
END:STANDARD
END:VTIMEZONE
BEGIN:VEVENT
UID:25cca9f83413c3d3f8c72c55de2e40f3
SUMMARY:Sarang Seohyun Kim (Violine), Yumiko Urabe (Klavier)
URL:https://www.concerti.de/termine/sarang-seohyun-kim-violine-yumiko-urabe-klavier-casals-forum-kronberg-891132/
DTSTART;TZID=Europe/Berlin:20260628T144500
DTEND;TZID=Europe/Berlin:20260628T164500
DESCRIPTION:Interpreten: Sarang Seohyun Kim (Violine)\, Yumiko Urabe (Klavier) \nProgramm: Mozart: Violinsonate Nr. 4 B-Dur KV 378 „Aurnhammer“\, Schumann: Sonate Nr. 1 a-Moll op. 105\, Szymanowski: Nocturne und Tarantella op. 28\, Suk: Píseň lásky op. 7/1 \nhttps://www.concerti.de/termine/sarang-seohyun-kim-violine-yumiko-urabe-klavier-casals-forum-kronberg-891132/
LOCATION:Casals Forum Kronberg\, Beethovenpl. 1\, 61476 Kronberg (Taunus)
END:VEVENT
END:VCALENDAR