BEGIN:VCALENDAR
VERSION:2.0
PRODID:concerti//https://www.concerti.de
CALSCALE:GREGORIAN
BEGIN:VTIMEZONE
TZID:Europe/Berlin
X-LIC-LOCATION:Europe/Berlin
BEGIN:DAYLIGHT
TZOFFSETFROM:+0100
TZOFFSETTO:+0200
TZNAME:CEST
DTSTART:19700329T020000
RRULE:FREQ=YEARLY;BYMONTH=3;BYDAY=-1SU
END:DAYLIGHT
BEGIN:STANDARD
TZOFFSETFROM:+0200
TZOFFSETTO:+0100
TZNAME:CET
DTSTART:19701025T030000
RRULE:FREQ=YEARLY;BYMONTH=10;BYDAY=-1SU
END:STANDARD
END:VTIMEZONE
BEGIN:VEVENT
UID:e8cf0eaf502ab1a2c7b5275e5f315ab0
SUMMARY:Claire Wells (Violine), Mana Oguchi (Klavier)
URL:https://www.concerti.de/termine/claire-wells-violine-mana-oguchi-klavier-casals-forum-kronberg-891138/
DTSTART;TZID=Europe/Berlin:20260628T174500
DTEND;TZID=Europe/Berlin:20260628T194500
DESCRIPTION:Interpreten: Claire Wells (Violine)\, Mana Oguchi (Klavier) \nProgramm: Schubert: Sonate Nr. 3 g-Moll op. posth. 137/3\, Prokofjew: Fünf Melodien op. 35b\, Brahms: Sonate Nr. 2 A-Dur op. 100 \nhttps://www.concerti.de/termine/claire-wells-violine-mana-oguchi-klavier-casals-forum-kronberg-891138/
LOCATION:Casals Forum Kronberg\, Beethovenpl. 1\, 61476 Kronberg (Taunus)
END:VEVENT
END:VCALENDAR