BEGIN:VCALENDAR
VERSION:2.0
PRODID:concerti//https://www.concerti.de
CALSCALE:GREGORIAN
BEGIN:VTIMEZONE
TZID:Europe/Berlin
X-LIC-LOCATION:Europe/Berlin
BEGIN:DAYLIGHT
TZOFFSETFROM:+0100
TZOFFSETTO:+0200
TZNAME:CEST
DTSTART:19700329T020000
RRULE:FREQ=YEARLY;BYMONTH=3;BYDAY=-1SU
END:DAYLIGHT
BEGIN:STANDARD
TZOFFSETFROM:+0200
TZOFFSETTO:+0100
TZNAME:CET
DTSTART:19701025T030000
RRULE:FREQ=YEARLY;BYMONTH=10;BYDAY=-1SU
END:STANDARD
END:VTIMEZONE
BEGIN:VEVENT
UID:b4b79db01317b4051387edf110987468
SUMMARY:Hana Chang (Violine), Yukino Kaihara (Klavier)
URL:https://www.concerti.de/termine/hana-chang-violine-yukino-kaihara-klavier-casals-forum-kronberg-891141/
DTSTART;TZID=Europe/Berlin:20260628T191500
DTEND;TZID=Europe/Berlin:20260628T211500
DESCRIPTION:Interpreten: Hana Chang (Violine)\, Yukino Kaihara (Klavier) \nProgramm: Mozart: Sonate e-Moll KV 304\, Sibelius:\nFünf Stücke op. 81\, Grieg: Sonate Nr. 2 G-Dur op. 13 \nhttps://www.concerti.de/termine/hana-chang-violine-yukino-kaihara-klavier-casals-forum-kronberg-891141/
LOCATION:Casals Forum Kronberg\, Beethovenpl. 1\, 61476 Kronberg (Taunus)
END:VEVENT
END:VCALENDAR