BEGIN:VCALENDAR
VERSION:2.0
PRODID:concerti//https://www.concerti.de
CALSCALE:GREGORIAN
BEGIN:VTIMEZONE
TZID:Europe/Berlin
X-LIC-LOCATION:Europe/Berlin
BEGIN:DAYLIGHT
TZOFFSETFROM:+0100
TZOFFSETTO:+0200
TZNAME:CEST
DTSTART:19700329T020000
RRULE:FREQ=YEARLY;BYMONTH=3;BYDAY=-1SU
END:DAYLIGHT
BEGIN:STANDARD
TZOFFSETFROM:+0200
TZOFFSETTO:+0100
TZNAME:CET
DTSTART:19701025T030000
RRULE:FREQ=YEARLY;BYMONTH=10;BYDAY=-1SU
END:STANDARD
END:VTIMEZONE
BEGIN:VEVENT
UID:0d152804b70214db5d795f3fba85a431
SUMMARY:Rossini: Gelegenheit macht Diebe
URL:https://www.concerti.de/termine/rossini-gelegenheit-macht-diebe-palmengarten-891159/
DTSTART;TZID=Europe/Berlin:20260724T193000
DTEND;TZID=Europe/Berlin:20260724T213000
DESCRIPTION:Interpreten: Musiktheaterensemble der Kammeroper Frankfurt \nhttps://www.concerti.de/termine/rossini-gelegenheit-macht-diebe-palmengarten-891159/
LOCATION:Palmengarten\, Siesmayerstraße 61\, 60323 Frankfurt (Main)
END:VEVENT
END:VCALENDAR