BEGIN:VCALENDAR
VERSION:2.0
PRODID:concerti//https://www.concerti.de
CALSCALE:GREGORIAN
BEGIN:VTIMEZONE
TZID:Europe/Berlin
X-LIC-LOCATION:Europe/Berlin
BEGIN:DAYLIGHT
TZOFFSETFROM:+0100
TZOFFSETTO:+0200
TZNAME:CEST
DTSTART:19700329T020000
RRULE:FREQ=YEARLY;BYMONTH=3;BYDAY=-1SU
END:DAYLIGHT
BEGIN:STANDARD
TZOFFSETFROM:+0200
TZOFFSETTO:+0100
TZNAME:CET
DTSTART:19701025T030000
RRULE:FREQ=YEARLY;BYMONTH=10;BYDAY=-1SU
END:STANDARD
END:VTIMEZONE
BEGIN:VEVENT
UID:abb66d1a4391e527636ed1a8d772912c
SUMMARY:Dorothee Oberlinger (Blockflöte), Darmstädter Barocksolisten - Barockfest Darmstadt
URL:https://www.concerti.de/termine/dorothee-oberlinger-blockfloete-darmstaedter-barocksolisten-staatstheater-darmstadt-891247/
DTSTART;TZID=Europe/Berlin:20360607T110000
DTEND;TZID=Europe/Berlin:20360607T130000
DESCRIPTION:Interpreten: Dorothee Oberlinger (Blockflöte)\, Darmstädter Barocksolisten \nhttps://www.concerti.de/termine/dorothee-oberlinger-blockfloete-darmstaedter-barocksolisten-staatstheater-darmstadt-891247/
LOCATION:Staatstheater Darmstadt\, Georg-Büchner-Platz 1\, 64283 Darmstadt
END:VEVENT
END:VCALENDAR