BEGIN:VCALENDAR
VERSION:2.0
PRODID:concerti//https://www.concerti.de
CALSCALE:GREGORIAN
BEGIN:VTIMEZONE
TZID:Europe/Berlin
X-LIC-LOCATION:Europe/Berlin
BEGIN:DAYLIGHT
TZOFFSETFROM:+0100
TZOFFSETTO:+0200
TZNAME:CEST
DTSTART:19700329T020000
RRULE:FREQ=YEARLY;BYMONTH=3;BYDAY=-1SU
END:DAYLIGHT
BEGIN:STANDARD
TZOFFSETFROM:+0200
TZOFFSETTO:+0100
TZNAME:CET
DTSTART:19701025T030000
RRULE:FREQ=YEARLY;BYMONTH=10;BYDAY=-1SU
END:STANDARD
END:VTIMEZONE
BEGIN:VEVENT
UID:431d9beaf4d4497623d9a2feda425988
SUMMARY:Chopins vergessene Kantilene
URL:https://www.concerti.de/termine/chopins-vergessene-kantilene-891501/
DTSTART;TZID=Europe/Berlin:20260526T190000
DTEND;TZID=Europe/Berlin:20260526T210000
DESCRIPTION:Wie klang Chopin – kantabel oder eher rhythmisch brillant? Mit dem Gesprächskonzert „Chopins vergessene Kantilene“ geht der Pianist Hardy Rittner dieser Frage nach und bietet einen Einblick in dessen Spielweise. So führen Berichte seiner Schüler zu der Einsicht\, dass bisherige Referenzinterpretationen offensichtlich nicht dem entsprechen\, was Chopin intendierte. Rittner veröffentlichte seine Erkenntnisse – ursprünglich als Beitrag zur Aufführungspraxis für eine neue Chopin-Ausgabe gedacht – in einer eigenständigen Monografie. \nInterpreten: Hardy Rittner (Klavier & Moderation) \nhttps://www.concerti.de/termine/chopins-vergessene-kantilene-891501/
LOCATION:Fruchtkasten\, Stuttgart
END:VEVENT
END:VCALENDAR