BEGIN:VCALENDAR
VERSION:2.0
PRODID:concerti//https://www.concerti.de
CALSCALE:GREGORIAN
BEGIN:VTIMEZONE
TZID:Europe/Berlin
X-LIC-LOCATION:Europe/Berlin
BEGIN:DAYLIGHT
TZOFFSETFROM:+0100
TZOFFSETTO:+0200
TZNAME:CEST
DTSTART:19700329T020000
RRULE:FREQ=YEARLY;BYMONTH=3;BYDAY=-1SU
END:DAYLIGHT
BEGIN:STANDARD
TZOFFSETFROM:+0200
TZOFFSETTO:+0100
TZNAME:CET
DTSTART:19701025T030000
RRULE:FREQ=YEARLY;BYMONTH=10;BYDAY=-1SU
END:STANDARD
END:VTIMEZONE
BEGIN:VEVENT
UID:181c023a69cf732992db853d85d96072
SUMMARY:Per Arne Glorvigen (Bandoneon), Amarcord - Sächsisches Mozartfest
URL:https://www.concerti.de/termine/per-arne-glorvigen-bandoneon-amarcord-891549/
DTSTART;TZID=Europe/Berlin:20260515T180000
DTEND;TZID=Europe/Berlin:20260515T200000
DESCRIPTION:Interpreten: Per Arne Glorvigen (Bandoneon)\, Amarcord \nProgramm: Glorvigen: Aires Buenos de Paz\, Werke von Schütz\, J. S. Bach\, Piazzolla \nhttps://www.concerti.de/termine/per-arne-glorvigen-bandoneon-amarcord-891549/
LOCATION:Schloßkirche\, Chemnitz
END:VEVENT
END:VCALENDAR