BEGIN:VCALENDAR
VERSION:2.0
PRODID:concerti//https://www.concerti.de
CALSCALE:GREGORIAN
BEGIN:VTIMEZONE
TZID:Europe/Berlin
X-LIC-LOCATION:Europe/Berlin
BEGIN:DAYLIGHT
TZOFFSETFROM:+0100
TZOFFSETTO:+0200
TZNAME:CEST
DTSTART:19700329T020000
RRULE:FREQ=YEARLY;BYMONTH=3;BYDAY=-1SU
END:DAYLIGHT
BEGIN:STANDARD
TZOFFSETFROM:+0200
TZOFFSETTO:+0100
TZNAME:CET
DTSTART:19701025T030000
RRULE:FREQ=YEARLY;BYMONTH=10;BYDAY=-1SU
END:STANDARD
END:VTIMEZONE
BEGIN:VEVENT
UID:0ccc98981963f313f6e98b51c125e75d
SUMMARY:Sacra Musica, Capella Trinitas, Sebastian Schilling (Orgel &#038; Leitung) - Sächsisches Mozartfest
URL:https://www.concerti.de/termine/sacra-musica-capella-trinitas-sebastian-schilling-orgel-leitung-891556/
DTSTART;TZID=Europe/Berlin:20260516T180000
DTEND;TZID=Europe/Berlin:20260516T200000
DESCRIPTION:Interpreten: Sacra Musica\, Capella Trinitas\, Sebastian Schilling (Orgel & Leitung) \nProgramm: Werke von Biber & Schein \nhttps://www.concerti.de/termine/sacra-musica-capella-trinitas-sebastian-schilling-orgel-leitung-891556/
LOCATION:Schloßkirche\, Chemnitz
END:VEVENT
END:VCALENDAR