BEGIN:VCALENDAR
VERSION:2.0
PRODID:concerti//https://www.concerti.de
CALSCALE:GREGORIAN
BEGIN:VTIMEZONE
TZID:Europe/Berlin
X-LIC-LOCATION:Europe/Berlin
BEGIN:DAYLIGHT
TZOFFSETFROM:+0100
TZOFFSETTO:+0200
TZNAME:CEST
DTSTART:19700329T020000
RRULE:FREQ=YEARLY;BYMONTH=3;BYDAY=-1SU
END:DAYLIGHT
BEGIN:STANDARD
TZOFFSETFROM:+0200
TZOFFSETTO:+0100
TZNAME:CET
DTSTART:19701025T030000
RRULE:FREQ=YEARLY;BYMONTH=10;BYDAY=-1SU
END:STANDARD
END:VTIMEZONE
BEGIN:VEVENT
UID:71d0718ce27ae57562be55d26094d584
SUMMARY:Hommage á Chick Corea - Sächsisches Mozartfest
URL:https://www.concerti.de/termine/hommage-a-chick-corea-891560/
DTSTART;TZID=Europe/Berlin:20260516T200000
DTEND;TZID=Europe/Berlin:20260516T220000
DESCRIPTION:Interpreten: Giacomo Riggi (Vibraphon)\, Stephan König (Klavier)\, Arriba-Streichquartett \nhttps://www.concerti.de/termine/hommage-a-chick-corea-891560/
LOCATION:NETZ-Werk\, Neukirchen
END:VEVENT
END:VCALENDAR