BEGIN:VCALENDAR
VERSION:2.0
PRODID:concerti//https://www.concerti.de
CALSCALE:GREGORIAN
BEGIN:VTIMEZONE
TZID:Europe/Berlin
X-LIC-LOCATION:Europe/Berlin
BEGIN:DAYLIGHT
TZOFFSETFROM:+0100
TZOFFSETTO:+0200
TZNAME:CEST
DTSTART:19700329T020000
RRULE:FREQ=YEARLY;BYMONTH=3;BYDAY=-1SU
END:DAYLIGHT
BEGIN:STANDARD
TZOFFSETFROM:+0200
TZOFFSETTO:+0100
TZNAME:CET
DTSTART:19701025T030000
RRULE:FREQ=YEARLY;BYMONTH=10;BYDAY=-1SU
END:STANDARD
END:VTIMEZONE
BEGIN:VEVENT
UID:9249d1299eec200df815a0784851253a
SUMMARY:Klaus Mertens (Gesang), Christian Steyer (Klavier), Madrigalion Praga, Capella Trinitatis, Christfried Brödel (Leitung) - Sächsisches Mozartfest
URL:https://www.concerti.de/termine/klaus-mertens-gesang-christian-steyer-klavier-madrigalion-praga-capella-trinitatis-christfried-broedel-leitung-891590/
DTSTART;TZID=Europe/Berlin:20260523T190000
DTEND;TZID=Europe/Berlin:20260523T210000
DESCRIPTION:Interpreten: Klaus Mertens (Gesang)\, Christian Steyer (Klavier)\, Madrigalion Praga\, Capella Trinitatis\, Christfried Brödel (Leitung) \nProgramm: Werke von J. S. Bach \nhttps://www.concerti.de/termine/klaus-mertens-gesang-christian-steyer-klavier-madrigalion-praga-capella-trinitatis-christfried-broedel-leitung-891590/
LOCATION:St. Annenkirche\, Annaberg-Buchholz
END:VEVENT
END:VCALENDAR