BEGIN:VCALENDAR
VERSION:2.0
PRODID:concerti//https://www.concerti.de
CALSCALE:GREGORIAN
BEGIN:VTIMEZONE
TZID:Europe/Berlin
X-LIC-LOCATION:Europe/Berlin
BEGIN:DAYLIGHT
TZOFFSETFROM:+0100
TZOFFSETTO:+0200
TZNAME:CEST
DTSTART:19700329T020000
RRULE:FREQ=YEARLY;BYMONTH=3;BYDAY=-1SU
END:DAYLIGHT
BEGIN:STANDARD
TZOFFSETFROM:+0200
TZOFFSETTO:+0100
TZNAME:CET
DTSTART:19701025T030000
RRULE:FREQ=YEARLY;BYMONTH=10;BYDAY=-1SU
END:STANDARD
END:VTIMEZONE
BEGIN:VEVENT
UID:0996678ab80be6cb2d836778f763392c
SUMMARY:Lou Strenger (Gesang), Gernot Süßmuth (Violine), Heidi Luosujärvi (Akkordeon), Alf Moser (Kontrabass), Reinhard Seehafer (Klavier) - Altmark Festspiele Gut Zichtau
URL:https://www.concerti.de/termine/lou-strenger-gesang-gernot-suessmuth-violine-heidi-luosujaervi-akkordeon-alf-moser-kontrabass-reinhard-seehafer-klavier-891617/
DTSTART;TZID=Europe/Berlin:20260606T180000
DTEND;TZID=Europe/Berlin:20260606T200000
DESCRIPTION:Interpreten: Lou Strenger (Gesang)\, Gernot Süßmuth (Violine)\, Heidi Luosujärvi (Akkordeon)\, Alf Moser (Kontrabass)\, Reinhard Seehafer (Klavier) \nProgramm: Werke von Piazzolla\, Legrand & Kander \nhttps://www.concerti.de/termine/lou-strenger-gesang-gernot-suessmuth-violine-heidi-luosujaervi-akkordeon-alf-moser-kontrabass-reinhard-seehafer-klavier-891617/
LOCATION:Freilichtmuseum\, Diesdorf
END:VEVENT
END:VCALENDAR