BEGIN:VCALENDAR
VERSION:2.0
PRODID:concerti//https://www.concerti.de
CALSCALE:GREGORIAN
BEGIN:VTIMEZONE
TZID:Europe/Berlin
X-LIC-LOCATION:Europe/Berlin
BEGIN:DAYLIGHT
TZOFFSETFROM:+0100
TZOFFSETTO:+0200
TZNAME:CEST
DTSTART:19700329T020000
RRULE:FREQ=YEARLY;BYMONTH=3;BYDAY=-1SU
END:DAYLIGHT
BEGIN:STANDARD
TZOFFSETFROM:+0200
TZOFFSETTO:+0100
TZNAME:CET
DTSTART:19701025T030000
RRULE:FREQ=YEARLY;BYMONTH=10;BYDAY=-1SU
END:STANDARD
END:VTIMEZONE
BEGIN:VEVENT
UID:b5e41e2c3a8e2c581d51212c55e957ba
SUMMARY:Amadé in spe - Sächsisches Mozartfest
URL:https://www.concerti.de/termine/amade-in-spe-891635/
DTSTART;TZID=Europe/Berlin:20260617T180000
DTEND;TZID=Europe/Berlin:20260617T200000
DESCRIPTION:Interpreten: Preisträgerinnen & Preisträger des Wettbewerbes Jugend musiziert \nhttps://www.concerti.de/termine/amade-in-spe-891635/
LOCATION:Villa Esche\, Chemnitz
END:VEVENT
END:VCALENDAR