BEGIN:VCALENDAR
VERSION:2.0
PRODID:concerti//https://www.concerti.de
CALSCALE:GREGORIAN
BEGIN:VTIMEZONE
TZID:Europe/Berlin
X-LIC-LOCATION:Europe/Berlin
BEGIN:DAYLIGHT
TZOFFSETFROM:+0100
TZOFFSETTO:+0200
TZNAME:CEST
DTSTART:19700329T020000
RRULE:FREQ=YEARLY;BYMONTH=3;BYDAY=-1SU
END:DAYLIGHT
BEGIN:STANDARD
TZOFFSETFROM:+0200
TZOFFSETTO:+0100
TZNAME:CET
DTSTART:19701025T030000
RRULE:FREQ=YEARLY;BYMONTH=10;BYDAY=-1SU
END:STANDARD
END:VTIMEZONE
BEGIN:VEVENT
UID:f707767f85d5b36dfac5feb803aac3f1
SUMMARY:Prokofjew: Peter und der Wolf - Altmark Festspiele Gut Zichtau
URL:https://www.concerti.de/termine/prokofjew-peter-und-der-wolf-891638/
DTSTART;TZID=Europe/Berlin:20260620T150000
DTEND;TZID=Europe/Berlin:20260620T170000
DESCRIPTION:Interpreten: Bläserquintett der Staatskapelle Berlin\, Matthias Glander (Leitung)\, Jochen Kowalski (Rezitation) \nhttps://www.concerti.de/termine/prokofjew-peter-und-der-wolf-891638/
LOCATION:Strohballenarena\, Wittenmoor
END:VEVENT
END:VCALENDAR