BEGIN:VCALENDAR
VERSION:2.0
PRODID:concerti//https://www.concerti.de
CALSCALE:GREGORIAN
BEGIN:VTIMEZONE
TZID:Europe/Berlin
X-LIC-LOCATION:Europe/Berlin
BEGIN:DAYLIGHT
TZOFFSETFROM:+0100
TZOFFSETTO:+0200
TZNAME:CEST
DTSTART:19700329T020000
RRULE:FREQ=YEARLY;BYMONTH=3;BYDAY=-1SU
END:DAYLIGHT
BEGIN:STANDARD
TZOFFSETFROM:+0200
TZOFFSETTO:+0100
TZNAME:CET
DTSTART:19701025T030000
RRULE:FREQ=YEARLY;BYMONTH=10;BYDAY=-1SU
END:STANDARD
END:VTIMEZONE
BEGIN:VEVENT
UID:fed5584846e5730da16c4423aa0a8c07
SUMMARY:Elias Conrad (Theorbe), Trio Cyrene - Altmark Festspiele Gut Zichtau
URL:https://www.concerti.de/termine/elias-conrad-theorbe-trio-cyrene-891641/
DTSTART;TZID=Europe/Berlin:20260621T170000
DTEND;TZID=Europe/Berlin:20260621T190000
DESCRIPTION:Interpreten: Elias Conrad (Theorbe)\, Trio Cyrene \nProgramm: Werke von Purcell\, Keiser\, Sartori\, Strozzi\, Rossi\, Monteverdi\, Dowland\, Chardavoine u. a. \nhttps://www.concerti.de/termine/elias-conrad-theorbe-trio-cyrene-891641/
LOCATION:Dorfkirche\, Wulkau
END:VEVENT
END:VCALENDAR