BEGIN:VCALENDAR
VERSION:2.0
PRODID:concerti//https://www.concerti.de
CALSCALE:GREGORIAN
BEGIN:VTIMEZONE
TZID:Europe/Berlin
X-LIC-LOCATION:Europe/Berlin
BEGIN:DAYLIGHT
TZOFFSETFROM:+0100
TZOFFSETTO:+0200
TZNAME:CEST
DTSTART:19700329T020000
RRULE:FREQ=YEARLY;BYMONTH=3;BYDAY=-1SU
END:DAYLIGHT
BEGIN:STANDARD
TZOFFSETFROM:+0200
TZOFFSETTO:+0100
TZNAME:CET
DTSTART:19701025T030000
RRULE:FREQ=YEARLY;BYMONTH=10;BYDAY=-1SU
END:STANDARD
END:VTIMEZONE
BEGIN:VEVENT
UID:98646a94a8c17d242d4a05def7bb54c7
SUMMARY:Dunkel war&#8217;s, der Mond schien helle - Altmark Festspiele Gut Zichtau
URL:https://www.concerti.de/termine/dunkel-wars-der-mond-schien-helle-891653/
DTSTART;TZID=Europe/Berlin:20260627T203000
DTEND;TZID=Europe/Berlin:20260627T223000
DESCRIPTION:Interpreten: Duangamorn Fu (Sopran)\, Kontrabassgruppe der Staatskapelle Berlin \nhttps://www.concerti.de/termine/dunkel-wars-der-mond-schien-helle-891653/
LOCATION:Alte Burg\, Apenburg
END:VEVENT
END:VCALENDAR