BEGIN:VCALENDAR
VERSION:2.0
PRODID:concerti//https://www.concerti.de
CALSCALE:GREGORIAN
BEGIN:VTIMEZONE
TZID:Europe/Berlin
X-LIC-LOCATION:Europe/Berlin
BEGIN:DAYLIGHT
TZOFFSETFROM:+0100
TZOFFSETTO:+0200
TZNAME:CEST
DTSTART:19700329T020000
RRULE:FREQ=YEARLY;BYMONTH=3;BYDAY=-1SU
END:DAYLIGHT
BEGIN:STANDARD
TZOFFSETFROM:+0200
TZOFFSETTO:+0100
TZNAME:CET
DTSTART:19701025T030000
RRULE:FREQ=YEARLY;BYMONTH=10;BYDAY=-1SU
END:STANDARD
END:VTIMEZONE
BEGIN:VEVENT
UID:dccfa8026a66122dc7f94e2e1b186323
SUMMARY:Reinhard Seehafer (Klavier), Klangrausch-Trio - Altmark Festspiele Gut Zichtau
URL:https://www.concerti.de/termine/reinhard-seehafer-klavier-klangrausch-trio-891685/
DTSTART;TZID=Europe/Berlin:20260829T170000
DTEND;TZID=Europe/Berlin:20260829T190000
DESCRIPTION:Interpreten: Reinhard Seehafer (Klavier)\, Klangrausch-Trio \nProgramm: Schumann: Klavierquartett op. 47 u. a. \nhttps://www.concerti.de/termine/reinhard-seehafer-klavier-klangrausch-trio-891685/
LOCATION:Gutshof\, Welle
END:VEVENT
END:VCALENDAR