BEGIN:VCALENDAR
VERSION:2.0
PRODID:concerti//https://www.concerti.de
CALSCALE:GREGORIAN
BEGIN:VTIMEZONE
TZID:Europe/Berlin
X-LIC-LOCATION:Europe/Berlin
BEGIN:DAYLIGHT
TZOFFSETFROM:+0100
TZOFFSETTO:+0200
TZNAME:CEST
DTSTART:19700329T020000
RRULE:FREQ=YEARLY;BYMONTH=3;BYDAY=-1SU
END:DAYLIGHT
BEGIN:STANDARD
TZOFFSETFROM:+0200
TZOFFSETTO:+0100
TZNAME:CET
DTSTART:19701025T030000
RRULE:FREQ=YEARLY;BYMONTH=10;BYDAY=-1SU
END:STANDARD
END:VTIMEZONE
BEGIN:VEVENT
UID:3b9357f5e072995f77f388dc3cc9d919
SUMMARY:Abschlusskonzert - Altmark Festspiele Gut Zichtau
URL:https://www.concerti.de/termine/abschlusskonzert-891690/
DTSTART;TZID=Europe/Berlin:20260905T180000
DTEND;TZID=Europe/Berlin:20260905T200000
DESCRIPTION:Interpreten: Evelin Nowak (Sopran)\, Ekaterina Chayka-Rubinstein (Alt)\, Kangyoon Shine Lee (Tenor)\, Bernhard Hansky (Bass)\, Chor & Orchester des Czech National Symphony Orchestra\, Reinhard Seehafer (Leitung) \nProgramm: Verdi: Messa da Requiem \nhttps://www.concerti.de/termine/abschlusskonzert-891690/
LOCATION:Marienkirche\, Salzwedel
END:VEVENT
END:VCALENDAR